Workbook
Name gg_lav: Mercato!$B$9:$D$9

Sheet Mercato
B1: 1° anno | C1: 2° anno | D1: 3° anno
A2: Giorni anno | B2: 365 | C2: 365 | D2: 365 | F2: Ricorda dove è blu puoi modificare dove è nero NON devi modificare
A3: N° Camere | B3: 15 | C3: 15 | D3: 15 | F3: Ricorda qualsiasi domanda vai sul logo e scrivi tra i commenti eventuali domande o dubbi
A4: % occupazione | B4: 0.45 | C4: 0.55 | D4: 0.65
A5: Camere occupate annuali | B5: =(B3*B2)*B4 -> 2463.75 | C5: =(C3*C2)*C4 -> 3011.25 | D5: =(D3*D2)*D4 -> 3558.75
A6: Totale Mercato Mensile | B6: =B5/12 -> 205.3125 | C6: =C5/12 -> 250.9375 | D6: =D5/12 -> 296.5625
A7: Non cambiare | B7: 1 | C7: 1 | D7: 1
A8: Camere Mensili Teoriche | B8: =B6*B7 -> 205.3125 | C8: =C6*C7 -> 250.9375 | D8: =D6*D7 -> 296.5625
A9: Quanti giorni lavorativi di attività prevedi al mese? | B9: 30 | C9: 30 | D9: 30
A10: Clienti Mensili Reali | B10: =B6*B7*(B9/30) -> 205.3125 | C10: =C6*C7*(C9/30) -> 250.9375 | D10: =D6*D7*(D9/30) -> 296.5625
A12: Suddivisione delle tipologie delle stanze
A13: Camera Economica | B13: 0.4 | C13: 0.4 | D13: 0.4
A14: Camera Standard | B14: 0.35 | C14: 0.35 | D14: 0.35
A15: Camera Superior | B15: 0.25 | C15: 0.25 | D15: 0.25 | E15: =IF(SUM(B13:D15)<>300%,"Errore","Check Ok") -> Check Ok
A17: Camere occupate al giorno
A18: =A13 -> Camera Economica | B18: =B$10*B13/gg_lav -> 2.7375 | C18: =C$10*C13/gg_lav -> 3.3458333 | D18: =D$10*D13/gg_lav -> 3.9541667
A19: =A14 -> Camera Standard | B19: =B$10*B14/gg_lav -> 2.3953125 | C19: =C$10*C14/gg_lav -> 2.9276042 | D19: =D$10*D14/gg_lav -> 3.4598958
A20: =A15 -> Camera Superior | B20: =B$10*B15/gg_lav -> 1.7109375 | C20: =C$10*C15/gg_lav -> 2.0911458 | D20: =D$10*D15/gg_lav -> 2.4713542
A21: Totale | B21: =SUM(B18:B20) -> 6.84375 | C21: =SUM(C18:C20) -> 8.3645833 | D21: =SUM(D18:D20) -> 9.8854167
A23: Bevande, caffè e dolci
A24: Acqua (1/2 litro) | B24: 0.2 | C24: 0.2 | D24: 0.2
A25: Birra da 33cl | B25: 0.2 | C25: 0.2 | D25: 0.2
A26: Birra da 50cl | B26: 0.3 | C26: 0.3 | D26: 0.3
A27: Altre bevande | B27: 0.3 | C27: 0.3 | D27: 0.3 | E27: =IF(SUM(B24:D27)<>300%,"Errore","Check Ok") -> Check Ok
A28: Caffè | B28: 0.05 | C28: 0.05 | D28: 0.05
A29: Dolce | B29: 0 | C29: 0 | D29: 0

Sheet Prezzi e Costi Diretti
A2: Prezzi Medi Camere | B2: 1° anno | C2: 2° anno | D2: 3° anno | F2: Costo variabile camera occupata | G2: 1° anno | H2: 2° anno | I2: 3° anno
A3: =Mercato!A13 -> Camera Economica | B3: 100 | C3: 110 | D3: 120 | F3: =Mercato!A13 -> Camera Economica | G3: 25 | H3: 25 | I3: 25
A4: =Mercato!A14 -> Camera Standard | B4: 130 | C4: 140 | D4: 150 | F4: =Mercato!A14 -> Camera Standard | G4: 30 | H4: 30 | I4: 30
A5: =Mercato!A15 -> Camera Superior | B5: 160 | C5: 170 | D5: 180 | F5: =Mercato!A15 -> Camera Superior | G5: 35 | H5: 35 | I5: 35
A6: Tariffa media annuale | B6: =((B3*B8)+(B4*B9)+(B5*B10))/B11 -> 125.5 | C6: =((C3*C8)+(C4*C9)+(C5*C10))/C11 -> 135.5 | D6: =((D3*D8)+(D4*D9)+(D5*D10))/D11 -> 145.5
A7: Quantità prevista di Camere giornaliere | F7: Incasso previsto Camere giornaliere
A8: =Mercato!A13 -> Camera Economica | B8: =Mercato!B18 -> 2.7375 | C8: =Mercato!C18 -> 3.3458333 | D8: =Mercato!D18 -> 3.9541667 | F8: =Mercato!A13 -> Camera Economica | G8: =B8*B3 -> 273.75 | H8: =C8*C3 -> 368.04167 | I8: =D8*D3 -> 474.5
A9: =Mercato!A14 -> Camera Standard | B9: =Mercato!B19 -> 2.3953125 | C9: =Mercato!C19 -> 2.9276042 | D9: =Mercato!D19 -> 3.4598958 | F9: =Mercato!A14 -> Camera Standard | G9: =B9*B4 -> 311.39062 | H9: =C9*C4 -> 409.86458 | I9: =D9*D4 -> 518.98438
A10: =Mercato!A15 -> Camera Superior | B10: =Mercato!B20 -> 1.7109375 | C10: =Mercato!C20 -> 2.0911458 | D10: =Mercato!D20 -> 2.4713542 | F10: =Mercato!A15 -> Camera Superior | G10: =B10*B5 -> 273.75 | H10: =C10*C5 -> 355.49479 | I10: =D10*D5 -> 444.84375
A11: Quantità totale Camere | B11: =SUM(B8:B10) -> 6.84375 | C11: =SUM(C8:C10) -> 8.3645833 | D11: =SUM(D8:D10) -> 9.8854167 | F11: Incasso Totale giornaliero Camere | G11: =SUM(G8:G10) -> 858.89062 | H11: =SUM(H8:H10) -> 1133.401 | I11: =SUM(I8:I10) -> 1438.3281
A13: Numero Personale | F13: Costo variabile previsto delle Camere al giorno
A14: Ricevimento | B14: 3 | C14: 3 | D14: 3 | F14: =Mercato!A13 -> Camera Economica | G14: =G3*B8 -> 68.4375 | H14: =H3*C8 -> 83.645833 | I14: =I3*D8 -> 98.854167
A15: Colazioni | B15: 2 | C15: 2 | D15: 2 | F15: =Mercato!A14 -> Camera Standard | G15: =G4*B9 -> 71.859375 | H15: =H4*C9 -> 87.828125 | I15: =I4*D9 -> 103.79688
A16: Facchinaggio | B16: 1 | C16: 1 | D16: 1 | F16: =Mercato!A15 -> Camera Superior | G16: =G5*B10 -> 59.882812 | H16: =H5*C10 -> 73.190104 | I16: =I5*D10 -> 86.497396
A17: Numero dipendenti totale | B17: =SUM(B14:B16) -> 6 | C17: =SUM(C14:C16) -> 6 | D17: =SUM(D14:D16) -> 6 | F17: Costo Totale giornaliero Camere | G17: =SUM(G14:G16) -> 200.17969 | H17: =SUM(H14:H16) -> 244.66406 | I17: =SUM(I14:I16) -> 289.14844
A19: Prezzi Extra Euro | F19: Costi bevande, caffè e dolci (solo materie prime) (€)
A20: Acqua (1/2 litro) | B20: 2 | C20: 2 | D20: 2.5 | F20: Acqua (1/2 litro) | G20: 0.1 | H20: 0.11 | I20: 0.12
A21: Birra da 33cl | B21: 3 | C21: 3 | D21: 3 | F21: Birra da 33cl | G21: 0.5 | H21: 0.6 | I21: 0.7
A22: Birra da 50cl | B22: 4 | C22: 4 | D22: 4 | F22: Birra da 50cl | G22: 0.8 | H22: 0.9 | I22: 1
A23: Altre bevande | B23: 3 | C23: 3 | D23: 3 | F23: Altre bevande | G23: 0.18 | H23: 0.2 | I23: 0.21
A24: Caffè | B24: 2 | C24: 2 | D24: 2.5 | F24: Caffè | G24: 0.1 | H24: 0.11 | I24: 0.12
A25: Dolce | B25: 3 | C25: 3.5 | D25: 4 | F25: Dolce | G25: 0.4 | H25: 0.4 | I25: 0.4
A27: Quantità di Bevande prevista | F27: Incassi previsti delle Bevande
A28: n° acqua da 1/2 litro | B28: =B$11*Mercato!B24 -> 1.36875 | C28: =C$11*Mercato!C24 -> 1.6729167 | D28: =D$11*Mercato!D24 -> 1.9770833 | F28: acqua da 1/2 litro | G28: =B28*B20 -> 2.7375 | H28: =C28*C20 -> 3.3458333 | I28: =D28*D20 -> 4.9427083
A29: n° birre da 33cl | B29: =B$11*Mercato!B25 -> 1.36875 | C29: =C$11*Mercato!C25 -> 1.6729167 | D29: =D$11*Mercato!D25 -> 1.9770833 | F29: birre da 33cl | G29: =B29*B21 -> 4.10625 | H29: =C29*C21 -> 5.01875 | I29: =D29*D21 -> 5.93125
A30: n° birre da 50cl | B30: =B$11*Mercato!B26 -> 2.053125 | C30: =C$11*Mercato!C26 -> 2.509375 | D30: =D$11*Mercato!D26 -> 2.965625 | F30: birre da 50cl | G30: =B30*B22 -> 8.2125 | H30: =C30*C22 -> 10.0375 | I30: =D30*D22 -> 11.8625
A31: n° altre bevande | B31: =B$11*Mercato!B27 -> 2.053125 | C31: =C$11*Mercato!C27 -> 2.509375 | D31: =D$11*Mercato!D27 -> 2.965625 | F31: altre bevande | G31: =B31*B23 -> 6.159375 | H31: =C31*C23 -> 7.528125 | I31: =D31*D23 -> 8.896875
A32: n° caffè | B32: =B$11*Mercato!B28 -> 0.3421875 | C32: =C$11*Mercato!C28 -> 0.41822917 | D32: =D$11*Mercato!D28 -> 0.49427083 | F32: caffè | G32: =B32*B24 -> 0.684375 | H32: =C32*C24 -> 0.83645833 | I32: =D32*D24 -> 1.2356771
A33: n° dolci | B33: =B$11*Mercato!B29 -> 0 | C33: =C$11*Mercato!C29 -> 0 | D33: =D$11*Mercato!D29 -> 0 | F33: dolci | G33: =B33*B25 -> 0 | H33: =C33*C25 -> 0 | I33: =D33*D25 -> 0
F34: Valore bevande (euro) | G34: =SUM(G28:G33) -> 21.9 | H34: =SUM(H28:H33) -> 26.766667 | I34: =SUM(I28:I33) -> 32.86901
F36: Costi previsti delle Bevande
F37: n° acqua da 1/2 litro | G37: =G20*B28 -> 0.136875 | H37: =H20*C28 -> 0.18402083 | I37: =I20*D28 -> 0.23725
F38: n° birre da 33cl | G38: =G21*B29 -> 0.684375 | H38: =H21*C29 -> 1.00375 | I38: =I21*D29 -> 1.3839583
F39: n° birre da 50cl | G39: =G22*B30 -> 1.6425 | H39: =H22*C30 -> 2.2584375 | I39: =I22*D30 -> 2.965625
F40: n° altre bevande | G40: =G23*B31 -> 0.3695625 | H40: =H23*C31 -> 0.501875 | I40: =I23*D31 -> 0.62278125
F41: n° caffè | G41: =G24*B32 -> 0.03421875 | H41: =H24*C32 -> 0.046005208 | I41: =I24*D32 -> 0.0593125
F42: n° dolci | G42: =G25*B33 -> 0 | H42: =H25*C33 -> 0 | I42: =I25*D33 -> 0
F43: Costo totale bevande (euro) | G43: =SUM(G37:G42) -> 2.8675312 | H43: =SUM(H37:H42) -> 3.9940885 | I43: =SUM(I37:I42) -> 5.2689271
A45: Riepilogo dinamica giornaliera
A46: Venduto camere | B46: =G11 -> 858.89062 | C46: =H11 -> 1133.401 | D46: =I11 -> 1438.3281
...

Sheet Investimento iniziale
C2: Anni di ammortamento | D2: Aliquota di ammortamento | E2: Costo Mensile
A3: Spese Notarili+Costituzione | B3: 30000 | C3: 5 | D3: =1/C3 -> 0.2 | E3: =B3*D3/12 -> 500
A4: Lavori | B4: 1000000 | C4: 12 | D4: =1/C4 -> 0.083333333 | E4: =B4*D4/12 -> 6944.4444
A5: Acquisto | B5: 1500000 | C5: 20 | D5: =1/C5 -> 0.05 | E5: =B5*D5/12 -> 6250
A6: Tot. Investimenti | B6: =SUM(B3:B5) -> 2530000 | E6: =SUM(E3:E5) -> 13694.444

Sheet Costi indiretti
A2: Costi di esercizio mensili | B2: 1° anno | C2: 2° anno | D2: 3° anno | H2: 1° anno | I2: 2° anno | J2: 3° anno
A3: Affitto locali | B3: =H3/12 -> 0 | C3: =I3/12 -> 0 | D3: =J3/12 -> 0 | E3: Costi Generali | G3: Affitto annuale | H3: 0 | I3: 0 | J3: 0
A4: Luce, Acqua, Gas | B4: 1000 | C4: 1100 | D4: 1200 | E4: Costi Generali
A5: Telefono, Connessioni e TV | B5: 350 | C5: 400 | D5: 450 | E5: Costi Generali
A6: Varie | E6: Costi Operativi Indiretti
A7: Tasse & imposte varie | B7: 500 | C7: 600 | D7: 700 | E7: Costi Generali
A8: Stipendio lordo: Ricevimento | B8: 2500 | C8: 2600 | D8: 2700 | E8: Costi del personale | G8: ='Prezzi e Costi Diretti'!B14 -> 3 | H8: ='Prezzi e Costi Diretti'!C14 -> 3 | I8: ='Prezzi e Costi Diretti'!D14 -> 3
A9: Stipendio lordo: Colazioni | B9: 2500 | C9: 2600 | D9: 2700 | E9: Costi del personale | G9: ='Prezzi e Costi Diretti'!B15 -> 2 | H9: ='Prezzi e Costi Diretti'!C15 -> 2 | I9: ='Prezzi e Costi Diretti'!D15 -> 2
A10: Personale: Facchinaggio | B10: 2000 | C10: 2100 | D10: 2200 | E10: Costi del personale | G10: ='Prezzi e Costi Diretti'!B16 -> 1 | H10: ='Prezzi e Costi Diretti'!C16 -> 1 | I10: ='Prezzi e Costi Diretti'!D16 -> 1
A11: Manutenzioni + Imprevisti | B11: 500 | C11: 500 | D11: 500 | E11: Costi Operativi Indiretti
A12: Ammortamenti | B12: ='Investimento iniziale'!$E$6 -> 13694.444 | C12: ='Investimento iniziale'!$E$6 -> 13694.444 | D12: ='Investimento iniziale'!$E$6 -> 13694.444 | E12: Costi Generali
A13: Totale Mensile | B13: =SUM(B3:B7)+SUM(B11:B12)+(B8*G8)+(B9*G9)+(B10*G10) -> 30544.444 | C13: =SUM(C3:C7)+SUM(C11:C12)+(C8*H8)+(C9*H9)+(C10*H10) -> 31394.444 | D13: =SUM(D3:D7)+SUM(D11:D12)+(D8*I8)+(D9*I9)+(D10*I10) -> 32244.444 | G13: =(B8*G8)+(B9*G9)+(B10*G10) -> 14500 | H13: =(C8*H8)+(C9*H9)+(C10*H10) -> 15100 | I13: =(D8*I8)+(D9*I9)+(D10*I10) -> 15700

Sheet C.E.
A2: Conto Economico | B2: 1° anno | C2: 2° anno | D2: 3° anno
A3: Ricavi: Camere | B3: ='Prezzi e Costi Diretti'!B46*gg_lav*12 -> 309200.62 | C3: ='Prezzi e Costi Diretti'!C46*gg_lav*12 -> 408024.38 | D3: ='Prezzi e Costi Diretti'!D46*gg_lav*12 -> 517798.12
A4: Ricavi: Bar | B4: ='Prezzi e Costi Diretti'!B47*gg_lav*12 -> 7884 | C4: ='Prezzi e Costi Diretti'!C47*gg_lav*12 -> 9636 | D4: ='Prezzi e Costi Diretti'!D47*gg_lav*12 -> 11832.844
A5: Totale Ricavi | B5: =SUM(B3:B4) -> 317084.62 | C5: =SUM(C3:C4) -> 417660.38 | D5: =SUM(D3:D4) -> 529630.97
A6: Costi diretti: Camere | B6: ='Prezzi e Costi Diretti'!B49*gg_lav*12 -> -72064.688 | C6: ='Prezzi e Costi Diretti'!C49*gg_lav*12 -> -88079.062 | D6: ='Prezzi e Costi Diretti'!D49*gg_lav*12 -> -104093.44
A7: Costi diretti: Extra | B7: ='Prezzi e Costi Diretti'!B50*gg_lav*12 -> -1032.3112 | C7: ='Prezzi e Costi Diretti'!C50*gg_lav*12 -> -1437.8719 | D7: ='Prezzi e Costi Diretti'!D50*gg_lav*12 -> -1896.8137
A8: Totale Costo del Venduto | B8: =SUM(B6:B7) -> -73096.999 | C8: =SUM(C6:C7) -> -89516.934 | D8: =SUM(D6:D7) -> -105990.25
A9: 1° Margine | B9: =B5+B8 -> 243987.63 | C9: =C5+C8 -> 328143.44 | D9: =D5+D8 -> 423640.72
A10: Costi Generali | B10: =-SUMIF('Costi indiretti'!$E:$E,$A10,'Costi indiretti'!B:B)*12 -> -186533.33 | C10: =-SUMIF('Costi indiretti'!$E:$E,$A10,'Costi indiretti'!C:C)*12 -> -189533.33 | D10: =-SUMIF('Costi indiretti'!$E:$E,$A10,'Costi indiretti'!D:D)*12 -> -192533.33
A11: Costi Operativi Indiretti | B11: =-SUMIF('Costi indiretti'!$E:$E,$A11,'Costi indiretti'!B:B)*12 -> -6000 | C11: =-SUMIF('Costi indiretti'!$E:$E,$A11,'Costi indiretti'!C:C)*12 -> -6000 | D11: =-SUMIF('Costi indiretti'!$E:$E,$A11,'Costi indiretti'!D:D)*12 -> -6000
A12: Costi del personale | B12: =-'Costi indiretti'!G13*12 -> -174000 | C12: =-'Costi indiretti'!H13*12 -> -181200 | D12: =-'Costi indiretti'!I13*12 -> -188400
A13: Totale Costi Operativi | B13: =SUM(B10:B12) -> -366533.33 | C13: =SUM(C10:C12) -> -376733.33 | D13: =SUM(D10:D12) -> -386933.33
A14: Reddito Operativo | B14: =B9+B13 -> -122545.71 | C14: =C9+C13 -> -48589.893 | D14: =D9+D13 -> 36707.384
A15: Tasse | B15: 0 | C15: 0 | D15: 0
A16: Utile Netto | B16: =B14+B15 -> -122545.71 | C16: =C14+C15 -> -48589.893 | D16: =D14+D15 -> 36707.384
